Package: IONiseR Version: 2.30.0 Command: /Library/Frameworks/R.framework/Resources/bin/R CMD INSTALL IONiseR StartedAt: 2025-02-03 16:12:06 -0500 (Mon, 03 Feb 2025) EndedAt: 2025-02-03 16:12:46 -0500 (Mon, 03 Feb 2025) EllapsedTime: 39.9 seconds RetCode: 0 Status: OK