Package: IONiseR Version: 2.30.0 Command: /home/biocbuild/R/R/bin/R CMD check --install=check:IONiseR.install-out.txt --library=/home/biocbuild/R/R/site-library --no-vignettes --timings IONiseR_2.30.0.tar.gz StartedAt: 2024-11-20 09:04:45 -0000 (Wed, 20 Nov 2024) EndedAt: 2024-11-20 09:10:23 -0000 (Wed, 20 Nov 2024) EllapsedTime: 338.6 seconds RetCode: 0 Status: OK CheckDir: IONiseR.Rcheck Warnings: 0