Package: IONiseR Version: 2.30.0 Command: chmod a+r IONiseR -R && F:\biocbuild\bbs-3.20-bioc\R\bin\R.exe CMD build --keep-empty-dirs --no-resave-data IONiseR StartedAt: 2025-02-03 19:55:31 -0500 (Mon, 03 Feb 2025) EndedAt: 2025-02-03 19:58:07 -0500 (Mon, 03 Feb 2025) EllapsedTime: 156.5 seconds RetCode: 0 Status: OK PackageFile: IONiseR_2.30.0.tar.gz PackageFileSize: 2.488 MiB