Package: IPO Version: 1.32.0 Command: /Library/Frameworks/R.framework/Resources/bin/R CMD build --keep-empty-dirs --no-resave-data IPO StartedAt: 2025-02-17 19:53:09 -0500 (Mon, 17 Feb 2025) EndedAt: 2025-02-17 19:55:22 -0500 (Mon, 17 Feb 2025) EllapsedTime: 133.0 seconds RetCode: 1 Status: ERROR PackageFile: None PackageFileSize: NA