Package: IPO Version: 1.32.0 Command: /home/biocbuild/bbs-3.20-bioc/R/bin/R CMD INSTALL IPO StartedAt: 2025-02-03 15:48:38 -0500 (Mon, 03 Feb 2025) EndedAt: 2025-02-03 15:49:25 -0500 (Mon, 03 Feb 2025) EllapsedTime: 47.0 seconds RetCode: 0 Status: OK