Package: IPO Version: 1.32.0 Command: /home/biocbuild/R/R/bin/R CMD build --keep-empty-dirs --no-resave-data IPO StartedAt: 2025-02-04 00:26:58 -0000 (Tue, 04 Feb 2025) EndedAt: 2025-02-04 00:47:20 -0000 (Tue, 04 Feb 2025) EllapsedTime: 1222.5 seconds RetCode: 0 Status: OK PackageFile: IPO_1.32.0.tar.gz PackageFileSize: 548.4 KiB