Package: IPO Version: 1.32.0 Command: /home/biocbuild/R/R/bin/R CMD check --install=check:IPO.install-out.txt --library=/home/biocbuild/R/R/site-library --no-vignettes --timings IPO_1.32.0.tar.gz StartedAt: 2025-02-04 08:07:08 -0000 (Tue, 04 Feb 2025) EndedAt: 2025-02-04 08:21:55 -0000 (Tue, 04 Feb 2025) EllapsedTime: 887.2 seconds RetCode: 0 Status: OK CheckDir: IPO.Rcheck Warnings: 0