Package: IPO Version: 1.32.0 Command: /home/biocbuild/R/R/bin/R CMD INSTALL IPO StartedAt: 2025-02-03 21:04:58 -0000 (Mon, 03 Feb 2025) EndedAt: 2025-02-03 21:05:52 -0000 (Mon, 03 Feb 2025) EllapsedTime: 54.0 seconds RetCode: 0 Status: OK