Package: IRanges Version: 2.40.1 Command: rm -rf IRanges.buildbin-libdir && mkdir IRanges.buildbin-libdir && /Users/biocbuild/BBS/utils/build-universal.sh IRanges_2.40.1.tar.gz /Library/Frameworks/R.framework/Resources/bin/R IRanges.buildbin-libdir StartedAt: 2025-02-04 13:12:34 -0500 (Tue, 04 Feb 2025) EndedAt: 2025-02-04 13:16:10 -0500 (Tue, 04 Feb 2025) EllapsedTime: 216.8 seconds RetCode: 0 Status: OK PackageFile: IRanges_2.40.1.tgz PackageFileSize: 2.214 MiB