Package: IRanges Version: 2.40.1 Command: /Library/Frameworks/R.framework/Resources/bin/R CMD build --keep-empty-dirs --no-resave-data IRanges StartedAt: 2025-02-03 19:49:08 -0500 (Mon, 03 Feb 2025) EndedAt: 2025-02-03 19:51:53 -0500 (Mon, 03 Feb 2025) EllapsedTime: 164.7 seconds RetCode: 0 Status: OK PackageFile: IRanges_2.40.1.tar.gz PackageFileSize: 469.9 KiB