Package: IRanges Version: 2.40.1 Command: F:\biocbuild\bbs-3.20-bioc\R\bin\R.exe CMD INSTALL IRanges StartedAt: 2025-02-03 15:39:13 -0500 (Mon, 03 Feb 2025) EndedAt: 2025-02-03 15:43:01 -0500 (Mon, 03 Feb 2025) EllapsedTime: 227.6 seconds RetCode: 0 Status: OK