Package: IRanges Version: 2.40.1 Command: /home/biocbuild/R/R/bin/R CMD check --install=check:IRanges.install-out.txt --library=/home/biocbuild/R/R/site-library --no-vignettes --timings IRanges_2.40.1.tar.gz StartedAt: 2025-02-18 08:04:32 -0000 (Tue, 18 Feb 2025) EndedAt: 2025-02-18 08:08:18 -0000 (Tue, 18 Feb 2025) EllapsedTime: 226.3 seconds RetCode: 0 Status: WARNINGS CheckDir: IRanges.Rcheck Warnings: 4