Package: IRanges Version: 2.40.1 Command: /home/biocbuild/R/R/bin/R CMD INSTALL IRanges StartedAt: 2025-02-03 20:24:44 -0000 (Mon, 03 Feb 2025) EndedAt: 2025-02-03 20:25:59 -0000 (Mon, 03 Feb 2025) EllapsedTime: 74.7 seconds RetCode: 0 Status: OK