Package: ISAnalytics Version: 1.16.1 Command: rm -rf ISAnalytics.buildbin-libdir && mkdir ISAnalytics.buildbin-libdir && /Users/biocbuild/BBS/utils/build-universal.sh ISAnalytics_1.16.1.tar.gz /Library/Frameworks/R.framework/Resources/bin/R ISAnalytics.buildbin-libdir StartedAt: 2025-02-05 16:20:19 -0500 (Wed, 05 Feb 2025) EndedAt: 2025-02-05 16:20:44 -0500 (Wed, 05 Feb 2025) EllapsedTime: 24.9 seconds RetCode: 0 Status: OK PackageFile: ISAnalytics_1.16.1.tgz PackageFileSize: 5.27 MiB