Package: ISAnalytics Version: 1.16.1 Command: /Library/Frameworks/R.framework/Resources/bin/R CMD build --keep-empty-dirs --no-resave-data ISAnalytics StartedAt: 2025-02-11 02:05:27 -0500 (Tue, 11 Feb 2025) EndedAt: 2025-02-11 02:08:08 -0500 (Tue, 11 Feb 2025) EllapsedTime: 160.7 seconds RetCode: 0 Status: OK PackageFile: ISAnalytics_1.16.1.tar.gz PackageFileSize: 4.431 MiB