Package: ISAnalytics Version: 1.16.1 Command: /Library/Frameworks/R.framework/Resources/bin/R CMD check --install=check:ISAnalytics.install-out.txt --library=/Library/Frameworks/R.framework/Resources/library --no-vignettes --timings ISAnalytics_1.16.1.tar.gz StartedAt: 2025-02-11 23:02:17 -0500 (Tue, 11 Feb 2025) EndedAt: 2025-02-11 23:10:11 -0500 (Tue, 11 Feb 2025) EllapsedTime: 474.0 seconds RetCode: 0 Status: OK CheckDir: ISAnalytics.Rcheck Warnings: 0