Package: ISAnalytics Version: 1.16.1 Command: /Library/Frameworks/R.framework/Resources/bin/R CMD build --keep-empty-dirs --no-resave-data ISAnalytics StartedAt: 2025-02-03 19:49:09 -0500 (Mon, 03 Feb 2025) EndedAt: 2025-02-03 19:54:15 -0500 (Mon, 03 Feb 2025) EllapsedTime: 306.1 seconds RetCode: 0 Status: OK PackageFile: ISAnalytics_1.16.1.tar.gz PackageFileSize: 4.446 MiB