Package: ISAnalytics Version: 1.16.1 Command: /home/biocbuild/bbs-3.20-bioc/R/bin/R CMD build --keep-empty-dirs --no-resave-data --md5 ISAnalytics StartedAt: 2025-02-03 17:55:19 -0500 (Mon, 03 Feb 2025) EndedAt: 2025-02-03 17:57:29 -0500 (Mon, 03 Feb 2025) EllapsedTime: 130.2 seconds RetCode: 0 Status: OK PackageFile: ISAnalytics_1.16.1.tar.gz PackageFileSize: 4.388 MiB