Package: ISAnalytics Version: 1.16.1 Command: /home/biocbuild/bbs-3.20-bioc/R/bin/R CMD check --install=check:ISAnalytics.install-out.txt --library=/home/biocbuild/bbs-3.20-bioc/R/site-library --timings ISAnalytics_1.16.1.tar.gz StartedAt: 2025-02-03 23:28:01 -0500 (Mon, 03 Feb 2025) EndedAt: 2025-02-03 23:36:57 -0500 (Mon, 03 Feb 2025) EllapsedTime: 535.6 seconds RetCode: 0 Status: OK CheckDir: ISAnalytics.Rcheck Warnings: 0