Package: ISAnalytics Version: 1.16.1 Command: /home/biocbuild/R/R/bin/R CMD check --install=check:ISAnalytics.install-out.txt --library=/home/biocbuild/R/R/site-library --no-vignettes --timings ISAnalytics_1.16.1.tar.gz StartedAt: 2025-02-11 07:23:05 -0000 (Tue, 11 Feb 2025) EndedAt: 2025-02-11 07:32:19 -0000 (Tue, 11 Feb 2025) EllapsedTime: 554.5 seconds RetCode: 0 Status: OK CheckDir: ISAnalytics.Rcheck Warnings: 0