Package: ISLET Version: 1.8.0 Command: rm -rf ISLET.buildbin-libdir && mkdir ISLET.buildbin-libdir && /Users/biocbuild/BBS/utils/build-universal.sh ISLET_1.8.0.tar.gz /Library/Frameworks/R.framework/Resources/bin/R ISLET.buildbin-libdir StartedAt: 2025-02-01 15:26:21 -0500 (Sat, 01 Feb 2025) EndedAt: 2025-02-01 15:26:55 -0500 (Sat, 01 Feb 2025) EllapsedTime: 34.1 seconds RetCode: 0 Status: OK PackageFile: ISLET_1.8.0.tgz PackageFileSize: 1.518 MiB