Package: ISLET Version: 1.8.0 Command: /Library/Frameworks/R.framework/Resources/bin/R CMD build --keep-empty-dirs --no-resave-data ISLET StartedAt: 2025-01-31 02:03:20 -0500 (Fri, 31 Jan 2025) EndedAt: 2025-01-31 02:06:48 -0500 (Fri, 31 Jan 2025) EllapsedTime: 207.9 seconds RetCode: 0 Status: OK PackageFile: ISLET_1.8.0.tar.gz PackageFileSize: 2.185 MiB