Package: ISLET Version: 1.8.0 Command: /Library/Frameworks/R.framework/Resources/bin/R CMD INSTALL ISLET StartedAt: 2025-01-30 15:48:30 -0500 (Thu, 30 Jan 2025) EndedAt: 2025-01-30 15:49:00 -0500 (Thu, 30 Jan 2025) EllapsedTime: 30.6 seconds RetCode: 0 Status: OK