Package: ISLET Version: 1.8.0 Command: /Library/Frameworks/R.framework/Resources/bin/R CMD check --install=check:ISLET.install-out.txt --library=/Library/Frameworks/R.framework/Resources/library --no-vignettes --timings ISLET_1.8.0.tar.gz StartedAt: 2025-01-31 05:32:58 -0500 (Fri, 31 Jan 2025) EndedAt: 2025-01-31 05:47:19 -0500 (Fri, 31 Jan 2025) EllapsedTime: 860.6 seconds RetCode: 0 Status: OK CheckDir: ISLET.Rcheck Warnings: 0