Package: ISLET Version: 1.8.0 Command: rm -rf ISLET.buildbin-libdir && mkdir ISLET.buildbin-libdir && F:\biocbuild\bbs-3.20-bioc\R\bin\R.exe CMD INSTALL --build --library=ISLET.buildbin-libdir ISLET_1.8.0.tar.gz StartedAt: 2025-02-04 08:46:29 -0500 (Tue, 04 Feb 2025) EndedAt: 2025-02-04 08:47:05 -0500 (Tue, 04 Feb 2025) EllapsedTime: 35.7 seconds RetCode: 0 Status: OK PackageFile: ISLET_1.8.0.zip PackageFileSize: 1.523 MiB