Package: ISLET Version: 1.8.0 Command: F:\biocbuild\bbs-3.20-bioc\R\bin\R.exe CMD INSTALL ISLET StartedAt: 2025-01-30 15:56:13 -0500 (Thu, 30 Jan 2025) EndedAt: 2025-01-30 15:56:46 -0500 (Thu, 30 Jan 2025) EllapsedTime: 33.5 seconds RetCode: 0 Status: OK