Package: ISoLDE Version: 1.34.0 Command: F:\biocbuild\bbs-3.20-bioc\R\bin\R.exe CMD INSTALL ISoLDE StartedAt: 2025-02-03 15:31:48 -0500 (Mon, 03 Feb 2025) EndedAt: 2025-02-03 15:32:06 -0500 (Mon, 03 Feb 2025) EllapsedTime: 17.7 seconds RetCode: 0 Status: OK