Package: ITALICS Version: 2.66.0 Command: rm -rf ITALICS.buildbin-libdir && mkdir ITALICS.buildbin-libdir && /Users/biocbuild/BBS/utils/build-universal.sh ITALICS_2.66.0.tar.gz /Library/Frameworks/R.framework/Resources/bin/R ITALICS.buildbin-libdir StartedAt: 2025-02-19 15:40:23 -0500 (Wed, 19 Feb 2025) EndedAt: 2025-02-19 15:40:56 -0500 (Wed, 19 Feb 2025) EllapsedTime: 33.1 seconds RetCode: 0 Status: OK PackageFile: ITALICS_2.66.0.tgz PackageFileSize: 554.5 <A href="http://en.wikipedia.org/wiki/KiB" target="_blank">KiB</A>