Package: ITALICS Version: 2.66.0 Command: /Library/Frameworks/R.framework/Resources/bin/R CMD build --keep-empty-dirs --no-resave-data ITALICS StartedAt: 2025-02-04 02:07:43 -0500 (Tue, 04 Feb 2025) EndedAt: 2025-02-04 02:08:57 -0500 (Tue, 04 Feb 2025) EllapsedTime: 74.2 seconds RetCode: 0 Status: OK PackageFile: ITALICS_2.66.0.tar.gz PackageFileSize: 615.5 KiB