Package: ITALICS Version: 2.66.0 Command: /Library/Frameworks/R.framework/Resources/bin/R CMD check --install=check:ITALICS.install-out.txt --library=/Library/Frameworks/R.framework/Resources/library --no-vignettes --timings ITALICS_2.66.0.tar.gz StartedAt: 2025-02-04 23:34:58 -0500 (Tue, 04 Feb 2025) EndedAt: 2025-02-04 23:38:32 -0500 (Tue, 04 Feb 2025) EllapsedTime: 214.8 seconds RetCode: 0 Status: OK CheckDir: ITALICS.Rcheck Warnings: 0