Package: ITALICS Version: 2.66.0 Command: /Library/Frameworks/R.framework/Resources/bin/R CMD INSTALL ITALICS StartedAt: 2025-02-17 15:42:56 -0500 (Mon, 17 Feb 2025) EndedAt: 2025-02-17 15:43:25 -0500 (Mon, 17 Feb 2025) EllapsedTime: 29.2 seconds RetCode: 0 Status: OK