Package: ITALICS Version: 2.66.0 Command: /home/biocbuild/bbs-3.20-bioc/R/bin/R CMD build --keep-empty-dirs --no-resave-data --md5 ITALICS StartedAt: 2025-02-03 17:56:58 -0500 (Mon, 03 Feb 2025) EndedAt: 2025-02-03 17:57:48 -0500 (Mon, 03 Feb 2025) EllapsedTime: 50.1 seconds RetCode: 0 Status: OK PackageFile: ITALICS_2.66.0.tar.gz PackageFileSize: 617.5 KiB