Package: ITALICS Version: 2.66.0 Command: /home/biocbuild/bbs-3.20-bioc/R/bin/R CMD check --install=check:ITALICS.install-out.txt --library=/home/biocbuild/bbs-3.20-bioc/R/site-library --timings ITALICS_2.66.0.tar.gz StartedAt: 2025-02-03 23:32:18 -0500 (Mon, 03 Feb 2025) EndedAt: 2025-02-03 23:35:33 -0500 (Mon, 03 Feb 2025) EllapsedTime: 195.2 seconds RetCode: 0 Status: OK CheckDir: ITALICS.Rcheck Warnings: 0