Package: ITALICS Version: 2.66.0 Command: chmod a+r ITALICS -R && F:\biocbuild\bbs-3.20-bioc\R\bin\R.exe CMD build --keep-empty-dirs --no-resave-data ITALICS StartedAt: 2025-02-03 19:58:38 -0500 (Mon, 03 Feb 2025) EndedAt: 2025-02-03 20:00:15 -0500 (Mon, 03 Feb 2025) EllapsedTime: 97.4 seconds RetCode: 0 Status: OK PackageFile: ITALICS_2.66.0.tar.gz PackageFileSize: 474.9 KiB