Package: ITALICS Version: 2.66.0 Command: /home/biocbuild/R/R/bin/R CMD check --install=check:ITALICS.install-out.txt --library=/home/biocbuild/R/R/site-library --no-vignettes --timings ITALICS_2.66.0.tar.gz StartedAt: 2025-02-04 08:13:18 -0000 (Tue, 04 Feb 2025) EndedAt: 2025-02-04 08:16:46 -0000 (Tue, 04 Feb 2025) EllapsedTime: 207.3 seconds RetCode: 0 Status: OK CheckDir: ITALICS.Rcheck Warnings: 0