##############################################################################
##############################################################################
###
### Running command:
###
###   /home/biocbuild/R/R/bin/R CMD build --keep-empty-dirs --no-resave-data IVAS
###
##############################################################################
##############################################################################


* checking for file ‘IVAS/DESCRIPTION’ ... OK
* preparing ‘IVAS’:
* checking DESCRIPTION meta-information ... OK
* installing the package to build vignettes
* creating vignettes ... OK
* checking for LF line-endings in source and make files and shell scripts
* checking for empty or unneeded directories
* looking to see if a ‘data/datalist’ file should be added
* building ‘IVAS_2.26.0.tar.gz’