Package: IVAS Version: 2.26.0 Command: rm -rf IVAS.buildbin-libdir && mkdir IVAS.buildbin-libdir && /Users/biocbuild/BBS/utils/build-universal.sh IVAS_2.26.0.tar.gz /Library/Frameworks/R.framework/Resources/bin/R IVAS.buildbin-libdir StartedAt: 2024-11-20 04:33:26 -0500 (Wed, 20 Nov 2024) EndedAt: 2024-11-20 04:34:29 -0500 (Wed, 20 Nov 2024) EllapsedTime: 62.6 seconds RetCode: 0 Status: OK PackageFile: IVAS_2.26.0.tgz PackageFileSize: 676.2 KiB