##############################################################################
##############################################################################
###
### Running command:
###
###   rm -rf IVAS.buildbin-libdir && mkdir IVAS.buildbin-libdir && F:\biocbuild\bbs-3.20-bioc\R\bin\R.exe CMD INSTALL --build --library=IVAS.buildbin-libdir IVAS_2.25.0.tar.gz
###
##############################################################################
##############################################################################


* installing *source* package 'IVAS' ...
** using staged installation
** R
** data
** inst
** byte-compile and prepare package for lazy loading
Note: next used in wrong context: no loop is visible 
** help
*** installing help indices
** building package indices
** installing vignettes
** testing if installed package can be loaded from temporary location
** testing if installed package can be loaded from final location
** testing if installed package keeps a record of temporary installation path
* MD5 sums
packaged installation of 'IVAS' as IVAS_2.25.0.zip
* DONE (IVAS)