Package: IWTomics Version: 1.30.0 Command: rm -rf IWTomics.buildbin-libdir && mkdir IWTomics.buildbin-libdir && /Users/biocbuild/BBS/utils/build-universal.sh IWTomics_1.30.0.tar.gz /Library/Frameworks/R.framework/Resources/bin/R IWTomics.buildbin-libdir StartedAt: 2025-02-04 13:14:57 -0500 (Tue, 04 Feb 2025) EndedAt: 2025-02-04 13:16:13 -0500 (Tue, 04 Feb 2025) EllapsedTime: 76.6 seconds RetCode: 0 Status: OK PackageFile: IWTomics_1.30.0.tgz PackageFileSize: 1.777 MiB