Package: IWTomics
Version: 1.29.0
Command: F:\biocbuild\bbs-3.20-bioc\R\bin\R.exe CMD INSTALL IWTomics
StartedAt: 2024-06-09 16:58:02 -0400 (Sun, 09 Jun 2024)
EndedAt: 2024-06-09 16:58:36 -0400 (Sun, 09 Jun 2024)
EllapsedTime: 34.0 seconds
RetCode: 0
Status: OK