Package: IWTomics Version: 1.30.0 Command: rm -rf IWTomics.buildbin-libdir && mkdir IWTomics.buildbin-libdir && F:\biocbuild\bbs-3.20-bioc\R\bin\R.exe CMD INSTALL --build --library=IWTomics.buildbin-libdir IWTomics_1.30.0.tar.gz StartedAt: 2025-02-04 08:47:02 -0500 (Tue, 04 Feb 2025) EndedAt: 2025-02-04 08:48:04 -0500 (Tue, 04 Feb 2025) EllapsedTime: 62.5 seconds RetCode: 0 Status: OK PackageFile: IWTomics_1.30.0.zip PackageFileSize: 1.625 MiB