Package: IWTomics
Version: 1.30.0
Command: F:\biocbuild\bbs-3.20-bioc\R\bin\R.exe CMD check --no-multiarch --install=check:IWTomics.install-out.txt --library=F:\biocbuild\bbs-3.20-bioc\R\library --no-vignettes --timings IWTomics_1.30.0.tar.gz
StartedAt: 2025-02-18 02:45:11 -0500 (Tue, 18 Feb 2025)
EndedAt: 2025-02-18 02:49:08 -0500 (Tue, 18 Feb 2025)
EllapsedTime: 236.9 seconds
RetCode: 0
Status: WARNINGS
CheckDir: IWTomics.Rcheck
Warnings: 1