Package: IWTomics Version: 1.30.0 Command: /home/biocbuild/R/R/bin/R CMD check --install=check:IWTomics.install-out.txt --library=/home/biocbuild/R/R/site-library --no-vignettes --timings IWTomics_1.30.0.tar.gz StartedAt: 2025-01-31 07:32:06 -0000 (Fri, 31 Jan 2025) EndedAt: 2025-01-31 07:36:33 -0000 (Fri, 31 Jan 2025) EllapsedTime: 266.4 seconds RetCode: 0 Status: WARNINGS CheckDir: IWTomics.Rcheck Warnings: 1