Package: Icens Version: 1.78.0 Command: rm -rf Icens.buildbin-libdir && mkdir Icens.buildbin-libdir && /Users/biocbuild/BBS/utils/build-universal.sh Icens_1.78.0.tar.gz /Library/Frameworks/R.framework/Resources/bin/R Icens.buildbin-libdir StartedAt: 2025-02-05 16:15:04 -0500 (Wed, 05 Feb 2025) EndedAt: 2025-02-05 16:15:11 -0500 (Wed, 05 Feb 2025) EllapsedTime: 6.9 seconds RetCode: 0 Status: OK PackageFile: Icens_1.78.0.tgz PackageFileSize: 108.6 KiB