Package: Icens Version: 1.78.0 Command: /Library/Frameworks/R.framework/Resources/bin/R CMD build --keep-empty-dirs --no-resave-data Icens StartedAt: 2025-02-04 01:37:01 -0500 (Tue, 04 Feb 2025) EndedAt: 2025-02-04 01:37:02 -0500 (Tue, 04 Feb 2025) EllapsedTime: 1.2 seconds RetCode: 0 Status: OK PackageFile: Icens_1.78.0.tar.gz PackageFileSize: 20.84 KiB