Package: Icens Version: 1.78.0 Command: /Library/Frameworks/R.framework/Resources/bin/R CMD build --keep-empty-dirs --no-resave-data Icens StartedAt: 2025-02-03 19:40:57 -0500 (Mon, 03 Feb 2025) EndedAt: 2025-02-03 19:40:59 -0500 (Mon, 03 Feb 2025) EllapsedTime: 2.3 seconds RetCode: 0 Status: OK PackageFile: Icens_1.78.0.tar.gz PackageFileSize: 20.84 KiB