Package: Icens Version: 1.78.0 Command: rm -rf Icens.buildbin-libdir && mkdir Icens.buildbin-libdir && F:\biocbuild\bbs-3.20-bioc\R\bin\R.exe CMD INSTALL --build --library=Icens.buildbin-libdir Icens_1.78.0.tar.gz StartedAt: 2025-02-04 08:43:13 -0500 (Tue, 04 Feb 2025) EndedAt: 2025-02-04 08:43:36 -0500 (Tue, 04 Feb 2025) EllapsedTime: 23.3 seconds RetCode: 0 Status: OK PackageFile: Icens_1.78.0.zip PackageFileSize: 112.5 KiB