Package: Icens Version: 1.78.0 Command: /home/biocbuild/R/R/bin/R CMD build --keep-empty-dirs --no-resave-data Icens StartedAt: 2025-02-04 00:20:36 -0000 (Tue, 04 Feb 2025) EndedAt: 2025-02-04 00:20:37 -0000 (Tue, 04 Feb 2025) EllapsedTime: 1.0 seconds RetCode: 0 Status: OK PackageFile: Icens_1.78.0.tar.gz PackageFileSize: 20.83 KiB