Package: IgGeneUsage Version: 1.20.0 Command: /Library/Frameworks/R.framework/Resources/bin/R CMD check --install=check:IgGeneUsage.install-out.txt --library=/Library/Frameworks/R.framework/Resources/library --no-vignettes --timings IgGeneUsage_1.20.0.tar.gz StartedAt: 2025-02-04 22:53:23 -0500 (Tue, 04 Feb 2025) EndedAt: 2025-02-04 23:03:58 -0500 (Tue, 04 Feb 2025) EllapsedTime: 634.8 seconds RetCode: 0 Status: OK CheckDir: IgGeneUsage.Rcheck Warnings: 0