Package: IgGeneUsage
Version: 1.20.0
Command: /home/biocbuild/R/R/bin/R CMD build --keep-empty-dirs --no-resave-data IgGeneUsage
StartedAt: 2024-11-20 01:29:22 -0000 (Wed, 20 Nov 2024)
EndedAt: 2024-11-20 01:55:47 -0000 (Wed, 20 Nov 2024)
EllapsedTime: 1585.1 seconds
RetCode: 0
Status: OK
PackageFile: IgGeneUsage_1.20.0.tar.gz
PackageFileSize: 794.8 <A href="http://en.wikipedia.org/wiki/KiB" target="_blank">KiB</A>